BEGIN:VCALENDAR
VERSION:2.0
PRODID:-//jEvents 2.0 for Joomla//EN
CALSCALE:GREGORIAN
METHOD:PUBLISH
BEGIN:VTIMEZONE
TZID:Europe/Berlin
END:VTIMEZONE
BEGIN:VEVENT
UID:d382ece697375d60aa9d5893361370e7
CATEGORIES:Veranstaltungen
CREATED:20260103T160348
SUMMARY:Weißwurstfrühstück
DESCRIPTION:
DTSTAMP:20260424T001939
DTSTART;TZID=Europe/Berlin:20260106T100000
SEQUENCE:0
TRANSP:OPAQUE
END:VEVENT
END:VCALENDAR