BEGIN:VCALENDAR
VERSION:2.0
PRODID:-//jEvents 2.0 for Joomla//EN
CALSCALE:GREGORIAN
METHOD:PUBLISH
BEGIN:VTIMEZONE
TZID:Europe/Berlin
END:VTIMEZONE
BEGIN:VEVENT
UID:02TO1L0LLC000000VS5489BUVSSD35NB
CATEGORIES:Spiele Damenmannschaft
CREATED:20251101T091839
SUMMARY:SC Schwarzach-FC Gollhofen II, Meisterschaften, Frauen KL 02
LOCATION:SpVgg Münsterschwarzach\,Schweinfurter Str. 118\,97359 Schwarzach a. Main
DESCRIPTION:
DTSTAMP:20260421T194942
DTSTART;TZID=Europe/Berlin:20260418T160000
DTEND;TZID=Europe/Berlin:20260418T174500
SEQUENCE:0
TRANSP:OPAQUE
END:VEVENT
END:VCALENDAR