BEGIN:VCALENDAR
VERSION:2.0
PRODID:-//jEvents 2.0 for Joomla//EN
CALSCALE:GREGORIAN
METHOD:PUBLISH
BEGIN:VTIMEZONE
TZID:Europe/Berlin
END:VTIMEZONE
BEGIN:VEVENT
UID:02TO1L0M5S000000VS5489BUVSSD35NB
CATEGORIES:Spiele Damenmannschaft
CREATED:20251101T091839
SUMMARY:(SG) TV 73 Würzburg/DJK Würzburg II-FC Gollhofen II, Meisterschaften, Frauen KL 02
LOCATION:Sportanlage An der Frankenwarte Würzburg\,An der Frankenwarte\,97082 Würzbu
 rg
DESCRIPTION:
DTSTAMP:20260419T213700
DTSTART;TZID=Europe/Berlin:20260328T150000
DTEND;TZID=Europe/Berlin:20260328T164500
SEQUENCE:0
TRANSP:OPAQUE
END:VEVENT
END:VCALENDAR