BEGIN:VCALENDAR
VERSION:2.0
PRODID:-//jEvents 2.0 for Joomla//EN
CALSCALE:GREGORIAN
METHOD:PUBLISH
BEGIN:VTIMEZONE
TZID:Europe/Berlin
END:VTIMEZONE
BEGIN:VEVENT
UID:02TO1L0IUK000000VS5489BUVSSD35NB
CATEGORIES:Spiele Damenmannschaft
CREATED:20251101T091839
SUMMARY:(SG) SV Kürnach/SV Heidingsfeld-FC Gollhofen II, Meisterschaften, Frauen KL 02
LOCATION:Sportgelände Kürnach\, Platz 2\,Am Trieb 13\,97273 Kürnach
DESCRIPTION:
DTSTAMP:20260420T022449
DTSTART;TZID=Europe/Berlin:20251115T160000
DTEND;TZID=Europe/Berlin:20251115T174500
SEQUENCE:0
TRANSP:OPAQUE
END:VEVENT
END:VCALENDAR