BEGIN:VCALENDAR
VERSION:2.0
PRODID:-//jEvents 2.0 for Joomla//EN
CALSCALE:GREGORIAN
METHOD:PUBLISH
BEGIN:VTIMEZONE
TZID:Europe/Berlin
END:VTIMEZONE
BEGIN:VEVENT
UID:02TLP9HDFS000000VS5489BTVT4H6CF2
CATEGORIES:Spiele 2.Mannschaft
CREATED:20250910T184525
SUMMARY:FC Kirchheim II-(SG 2) Gollhofen-Ippesheim II, Meisterschaften, BK-Gr 2 WÜ
LOCATION:Sportgelände Kirchheim\, Platz 1\,Lilacherstr. 2\,97268 Kirchheim
DESCRIPTION:
DTSTAMP:20260424T235102
DTSTART;TZID=Europe/Berlin:20260412T130000
DTEND;TZID=Europe/Berlin:20260412T144500
SEQUENCE:0
TRANSP:OPAQUE
END:VEVENT
END:VCALENDAR