BEGIN:VCALENDAR
VERSION:2.0
PRODID:-//jEvents 2.0 for Joomla//EN
CALSCALE:GREGORIAN
METHOD:PUBLISH
BEGIN:VTIMEZONE
TZID:Europe/Berlin
END:VTIMEZONE
BEGIN:VEVENT
UID:02TLP9H8TC000000VS5489BTVT4H6CF2
CATEGORIES:Spiele 2.Mannschaft
CREATED:20250910T184525
SUMMARY:SV Geroldshausen II-(SG 2) Gollhofen-Ippesheim II, Meisterschaften, BK-Gr 2 WÜ
LOCATION:Sportpark Am Seeweg Geroldshausen\,Seeweg\,97256 Geroldshausen
DESCRIPTION:
DTSTAMP:20260420T222806
DTSTART;TZID=Europe/Berlin:20251012T124500
DTEND;TZID=Europe/Berlin:20251012T143000
SEQUENCE:0
TRANSP:OPAQUE
END:VEVENT
END:VCALENDAR