BEGIN:VCALENDAR
VERSION:2.0
PRODID:-//jEvents 2.0 for Joomla//EN
CALSCALE:GREGORIAN
METHOD:PUBLISH
BEGIN:VTIMEZONE
TZID:Europe/Berlin
END:VTIMEZONE
BEGIN:VEVENT
UID:02TL4OECIS000000VS5489BTVV03720K
CATEGORIES:Spiele 1.Mannschaft
CREATED:20250910T184436
SUMMARY:(SG 1) Ippesheim-Gollhofen-SV Hoheim, Meisterschaften, KK-Gr 2 WÜ
LOCATION:Sportgelände Gollhofen\, Platz 1\,Sportplatzstr.\,97258 Gollhofen
DESCRIPTION:
DTSTAMP:20260420T091257
DTSTART;TZID=Europe/Berlin:20251005T150000
DTEND;TZID=Europe/Berlin:20251005T164500
SEQUENCE:0
TRANSP:OPAQUE
END:VEVENT
END:VCALENDAR