BEGIN:VCALENDAR
VERSION:2.0
PRODID:-//jEvents 2.0 for Joomla//EN
CALSCALE:GREGORIAN
METHOD:PUBLISH
BEGIN:VTIMEZONE
TZID:Europe/Berlin
END:VTIMEZONE
BEGIN:VEVENT
UID:29c1e4f75d878cd28b2b598860369e63
CATEGORIES:Leichtathletik
CREATED:20250910T182817
SUMMARY:Weinhallalauf - Sulzfeld
LOCATION:Sulzfeld
DESCRIPTION:
DTSTAMP:20260419T185656
DTSTART;TZID=Europe/Berlin;VALUE=DATE:20250803
DTEND;TZID=Europe/Berlin;VALUE=DATE:20250804
SEQUENCE:0
TRANSP:OPAQUE
END:VEVENT
END:VCALENDAR