BEGIN:VCALENDAR
VERSION:2.0
PRODID:-//jEvents 2.0 for Joomla//EN
CALSCALE:GREGORIAN
METHOD:PUBLISH
BEGIN:VTIMEZONE
TZID:Europe/Berlin
END:VTIMEZONE
BEGIN:VEVENT
UID:e2920725141337799108f8b74b36dc32
CATEGORIES:Leichtathletik
CREATED:20250910T182640
SUMMARY:Straßenlauf - Gollhofen
DESCRIPTION:
DTSTAMP:20260423T132922
DTSTART;TZID=Europe/Berlin:20250531T080000
DTEND;TZID=Europe/Berlin:20250531T170000
SEQUENCE:0
TRANSP:OPAQUE
END:VEVENT
END:VCALENDAR