BEGIN:VCALENDAR
VERSION:2.0
PRODID:-//jEvents 2.0 for Joomla//EN
CALSCALE:GREGORIAN
METHOD:PUBLISH
BEGIN:VTIMEZONE
TZID:Europe/Berlin
END:VTIMEZONE
BEGIN:VEVENT
UID:aa6e143add63bfee487c795fc74f09d0
CATEGORIES:Leichtathletik
CREATED:20250910T182616
SUMMARY:Kinder-Leichtathletik & Kreismeisterschaft - Ipsheim
LOCATION:Ipsheim
DESCRIPTION:
DTSTAMP:20260423T131742
DTSTART;TZID=Europe/Berlin;VALUE=DATE:20250525
DTEND;TZID=Europe/Berlin;VALUE=DATE:20250526
SEQUENCE:0
TRANSP:OPAQUE
END:VEVENT
END:VCALENDAR