BEGIN:VCALENDAR
VERSION:2.0
PRODID:-//jEvents 2.0 for Joomla//EN
CALSCALE:GREGORIAN
METHOD:PUBLISH
BEGIN:VTIMEZONE
TZID:Europe/Berlin
END:VTIMEZONE
BEGIN:VEVENT
UID:02PVU7OA2K000000VS5489B4VVE5FNTJ
CATEGORIES:Spiele 2.Mannschaft
CREATED:20240804T163730
SUMMARY:SpVgg Gülchsheim II-(SG 2) Gollhofen-Ippesheim, Meisterschaften, BK-Gr 2 WÜ
LOCATION:Sportgelände Im Sportpark Gülchsheim\, Platz 1\,Oellinger Str.\,97258 Hemme
 rsheim
DESCRIPTION:
DTSTAMP:20260420T075020
DTSTART;TZID=Europe/Berlin:20250330T130000
DTEND;TZID=Europe/Berlin:20250330T144500
SEQUENCE:0
TRANSP:OPAQUE
END:VEVENT
END:VCALENDAR