BEGIN:VCALENDAR
VERSION:2.0
PRODID:-//jEvents 2.0 for Joomla//EN
CALSCALE:GREGORIAN
METHOD:PUBLISH
BEGIN:VTIMEZONE
TZID:Europe/Berlin
END:VTIMEZONE
BEGIN:VEVENT
UID:02PVU7O0U4000000VS5489B4VVE5FNTJ
CATEGORIES:Spiele 2.Mannschaft
CREATED:20240804T163730
SUMMARY:(SG 2) FC Grosslangheim-(SG 2) Gollhofen-Ippesheim, Meisterschaften, BK-Gr 2 WÜ
LOCATION:Sportgelände Kleinlangheim\, Platz 1\,Schulstr. 33\,97355 Kleinlangheim
DESCRIPTION:
DTSTAMP:20260422T144743
DTSTART;TZID=Europe/Berlin:20241020T130000
DTEND;TZID=Europe/Berlin:20241020T144500
SEQUENCE:0
TRANSP:OPAQUE
END:VEVENT
END:VCALENDAR