BEGIN:VCALENDAR
VERSION:2.0
PRODID:-//jEvents 2.0 for Joomla//EN
CALSCALE:GREGORIAN
METHOD:PUBLISH
BEGIN:VTIMEZONE
TZID:Europe/Berlin
END:VTIMEZONE
BEGIN:VEVENT
UID:02PVU7O1L8000000VS5489B4VVE5FNTJ
CATEGORIES:Spiele 2.Mannschaft
CREATED:20240804T163730
SUMMARY:TSV Gnodstadt II-(SG 2) Gollhofen-Ippesheim, Meisterschaften, BK-Gr 2 WÜ
LOCATION:Sportgelände Gnodstadt\, Platz 1\,Sportplatzstr.\,97340 Marktbreit
DESCRIPTION:
DTSTAMP:20260420T024540
DTSTART;TZID=Europe/Berlin:20241006T124500
DTEND;TZID=Europe/Berlin:20241006T143000
SEQUENCE:0
TRANSP:OPAQUE
END:VEVENT
END:VCALENDAR