BEGIN:VCALENDAR
VERSION:2.0
PRODID:-//jEvents 2.0 for Joomla//EN
CALSCALE:GREGORIAN
METHOD:PUBLISH
BEGIN:VTIMEZONE
TZID:Europe/Berlin
END:VTIMEZONE
BEGIN:VEVENT
UID:02PVU7O2CC000000VS5489B4VVE5FNTJ
CATEGORIES:Spiele 2.Mannschaft
CREATED:20240804T163730
SUMMARY:FC Hopferstadt II-(SG 2) Gollhofen-Ippesheim, Meisterschaften, BK-Gr 2 WÜ
LOCATION:Sportanlage Hopferstadt\, Platz 1\,Am Sportplatz\,97199 Ochsenfurt
DESCRIPTION:
DTSTAMP:20260422T073520
DTSTART;TZID=Europe/Berlin:20240929T130000
DTEND;TZID=Europe/Berlin:20240929T144500
SEQUENCE:0
TRANSP:OPAQUE
END:VEVENT
END:VCALENDAR