BEGIN:VCALENDAR
VERSION:2.0
PRODID:-//jEvents 2.0 for Joomla//EN
CALSCALE:GREGORIAN
METHOD:PUBLISH
BEGIN:VTIMEZONE
TZID:Europe/Berlin
END:VTIMEZONE
BEGIN:VEVENT
UID:02PVU7O2Q4000000VS5489B4VVE5FNTJ
CATEGORIES:Spiele 2.Mannschaft
CREATED:20240804T163730
SUMMARY:(SG 2) Gollhofen-Ippesheim-(SG 2) SV Gaukönigshofen, Meisterschaften, BK-Gr 2 WÜ
LOCATION:Sportplatz Gollhofen\,Sportplatzstr.\,97258 Gollhofen
DESCRIPTION:
DTSTAMP:20260422T073523
DTSTART;TZID=Europe/Berlin:20240922T130000
DTEND;TZID=Europe/Berlin:20240922T144500
SEQUENCE:0
TRANSP:OPAQUE
END:VEVENT
END:VCALENDAR