BEGIN:VCALENDAR
VERSION:2.0
PRODID:-//jEvents 2.0 for Joomla//EN
CALSCALE:GREGORIAN
METHOD:PUBLISH
BEGIN:VTIMEZONE
TZID:Europe/Berlin
END:VTIMEZONE
BEGIN:VEVENT
UID:02M8RH0VS4000000VS5489B3VVRQ15EP
CATEGORIES:Spiele Damenmannschaft
CREATED:20230909T123541
SUMMARY:TSV Frickenhausen (N)-FC Gollhofen, Meisterschaften, Frauen BOL
LOCATION:Sportgelände Am Geheu Frickenhausen\, Platz 1\,Geheusteige\,97252 Frickenha
 usen a. Main
DESCRIPTION:
DTSTAMP:20260420T095340
DTSTART;TZID=Europe/Berlin:20240421T130000
DTEND;TZID=Europe/Berlin:20240421T144500
SEQUENCE:0
TRANSP:OPAQUE
END:VEVENT
END:VCALENDAR