BEGIN:VCALENDAR
VERSION:2.0
PRODID:-//jEvents 2.0 for Joomla//EN
CALSCALE:GREGORIAN
METHOD:PUBLISH
BEGIN:VTIMEZONE
TZID:Europe/Berlin
END:VTIMEZONE
BEGIN:VEVENT
UID:02MAVOGKOS000000VS5489B4VSAUO6GA
CATEGORIES:Spiele 1.Mannschaft
CREATED:20230806T115241
SUMMARY:SV Gaukönigshofen-(SG) Ippesheim-Gollhofen, Meisterschaften, KK-Gr 2 WÜ
LOCATION:Sportgelände Gaukönigshofen\,Am Sportplatz\,97253 Gaukönigshofen
DESCRIPTION:
DTSTAMP:20260421T071228
DTSTART;TZID=Europe/Berlin:20240510T190000
DTEND;TZID=Europe/Berlin:20240510T204500
SEQUENCE:0
TRANSP:OPAQUE
END:VEVENT
END:VCALENDAR