BEGIN:VCALENDAR
VERSION:2.0
PRODID:-//jEvents 2.0 for Joomla//EN
CALSCALE:GREGORIAN
METHOD:PUBLISH
BEGIN:VTIMEZONE
TZID:Europe/Berlin
END:VTIMEZONE
BEGIN:VEVENT
UID:d0183ad79cd2760798a8d286036c25f6
CATEGORIES:Leichtathletik
CREATED:20230509T125909
SUMMARY:Deutsches Sportabzeichen ab 13:00 Uhr
DESCRIPTION:	Zur Anmeldung zum Ablegen des Deutschen Sportabzeichens gelangst Du über d
 en Link\n	https://www.fcgollhofen.de/index.php/anmeld2/anmeldung-dt-sportab
 zeichen-am-18-6-2023-ab-13-00-uhr\n	 \n	 \n
X-ALT-DESC;FMTTYPE=text/html:<p>	Zur Anmeldung zum Ablegen des Deutschen Sportabzeichens gelangst Du &uu
 ml;ber den Link</p><p>	<a href="https://www.fcgollhofen.de/index.php/anmeld
 2/anmeldung-dt-sportabzeichen-am-18-6-2023-ab-13-00-uhr" target="_blank">ht
 tps://www.fcgollhofen.de/index.php/anmeld2/anmeldung-dt-sportabzeichen-am-1
 8-6-2023-ab-13-00-uhr</a></p><p>	&nbsp;</p><p>	&nbsp;</p>
DTSTAMP:20260421T221607
DTSTART;TZID=Europe/Berlin:20230618T130000
SEQUENCE:0
TRANSP:OPAQUE
END:VEVENT
END:VCALENDAR