BEGIN:VCALENDAR
VERSION:2.0
PRODID:-//jEvents 2.0 for Joomla//EN
CALSCALE:GREGORIAN
METHOD:PUBLISH
BEGIN:VTIMEZONE
TZID:Europe/Berlin
END:VTIMEZONE
BEGIN:VEVENT
UID:02IQC55O4G000000VS5489B4VVD1J4FC
CATEGORIES:Spiele 2.Mannschaft
CREATED:20220902T133051
SUMMARY:SG Lenkersheim/Oberndorf II-SG Weigenheim III/Gollhofen II, Meisterschaften, BK-Gr 4 N/F
LOCATION:Sportanlage Bad Windsheim Lenk.\, Schafgasse 1\, Platz 1\,Schafgasse 1\,914
 38 Bad Windsheim
DESCRIPTION:
DTSTAMP:20260419T180210
DTSTART;TZID=Europe/Berlin:20230402T130000
DTEND;TZID=Europe/Berlin:20230402T144500
SEQUENCE:0
TRANSP:OPAQUE
END:VEVENT
END:VCALENDAR