BEGIN:VCALENDAR
VERSION:2.0
PRODID:-//jEvents 2.0 for Joomla//EN
CALSCALE:GREGORIAN
METHOD:PUBLISH
BEGIN:VTIMEZONE
TZID:Europe/Berlin
END:VTIMEZONE
BEGIN:VEVENT
UID:02TL4OEJEC000000VS5489BTVV03720K
CATEGORIES:Spiele 1.Mannschaft
CREATED:20250910T184436
SUMMARY:(SG 1) Ippesheim-Gollhofen-(SG 1) Reichenberg/Rottenbauer, Meisterschaften, KK-Gr 2 WÜ
LOCATION:Sportgelände Ippesheim\, Platz 1\,Molkereistr. 39\,97258 Ippesheim
DESCRIPTION:
DTSTAMP:20260419T124833
DTSTART;TZID=Europe/Berlin:20260419T160000
DTEND;TZID=Europe/Berlin:20260419T174500
SEQUENCE:0
TRANSP:OPAQUE
END:VEVENT
END:VCALENDAR